BEGIN:VCALENDAR
VERSION:2.0
PRODID:-//31.47.244.40//NONSGML kigkonsult.se iCalcreator 2.41.92//
CALSCALE:GREGORIAN
METHOD:PUBLISH
UID:39653366-6130-4634-a365-393430623634
X-WR-CALNAME:Terminkalender_Jugend
X-WR-CALDESC:Terminkalender_Jugend
X-WR-TIMEZONE:Europe/Berlin
BEGIN:VEVENT
UID:61666237-3638-4637-b263-373061643265
DTSTAMP:20260420T083939Z
DESCRIPTION:
DTSTART:20230419T180000
DTEND:20230419T193000
SUMMARY:Kinder- und Jugendprobe (gemeinsame Probe)
END:VEVENT
BEGIN:VEVENT
UID:64646133-6338-4837-a366-303337363564
DTSTAMP:20260420T083939Z
DESCRIPTION:
DTSTART:20230427T180000
DTEND:20230427T193000
SUMMARY:Kinder- und Jugendprobe (gemeinsame Probe)
END:VEVENT
BEGIN:VEVENT
UID:64623137-6363-4363-b232-373465656462
DTSTAMP:20260420T083939Z
DESCRIPTION:
DTSTART:20230502T180000
DTEND:20230502T193000
SUMMARY:Kinder- und Jugendprobe (gemeinsame Probe)
END:VEVENT
BEGIN:VEVENT
UID:30346531-6339-4161-a432-646232373537
DTSTAMP:20260420T083939Z
DESCRIPTION:
DTSTART:20230510T180000
DTEND:20230510T193000
SUMMARY:Kinder- und Jugendprobe (gemeinsame Probe)
END:VEVENT
BEGIN:VEVENT
UID:33623663-3930-4464-b532-653431666336
DTSTAMP:20260420T083939Z
DESCRIPTION:
DTSTART:20230516T180000
DTEND:20230516T193000
SUMMARY:Kinder- und Jugendprobe
END:VEVENT
BEGIN:VEVENT
UID:64663637-3765-4031-a530-323037663837
DTSTAMP:20260420T083939Z
DESCRIPTION:
DTSTART:20230525T180000
DTEND:20230525T193000
SUMMARY:Kinder- und Jugendprobe (gemeinsame Probe)
END:VEVENT
BEGIN:VEVENT
UID:65336566-6565-4632-b738-366666363836
DTSTAMP:20260420T083939Z
DESCRIPTION:
DTSTART:20230613T180000
DTEND:20230613T193000
SUMMARY:Kinder- und Jugendprobe (Generalprobe)
END:VEVENT
BEGIN:VEVENT
UID:30383334-6632-4063-b837-613138333939
DTSTAMP:20260420T083939Z
DESCRIPTION:
DTSTART:20230614T180000
DTEND:20230614T200000
SUMMARY:Begegnungsfest
END:VEVENT
BEGIN:VEVENT
UID:32306238-6138-4137-b563-653633636130
DTSTAMP:20260420T083939Z
DESCRIPTION:
DTSTART:20230621T180000
DTEND:20230621T193000
SUMMARY:Kinder- und Jugendprobe (Generalprobe)
END:VEVENT
BEGIN:VEVENT
UID:34313262-6432-4534-b131-643861613435
DTSTAMP:20260420T083939Z
DESCRIPTION:
DTSTART:20230624T100000
DTEND:20230624T180000
SUMMARY:Stadtfest
END:VEVENT
BEGIN:VEVENT
UID:32633762-6530-4134-a134-623831636431
DTSTAMP:20260420T083939Z
DESCRIPTION:
DTSTART:20230629T180000
DTEND:20230629T193000
SUMMARY:Kinder- und Jugendprobe (gemeinsame Probe)
END:VEVENT
BEGIN:VEVENT
UID:39363534-3236-4363-a338-636438326565
DTSTAMP:20260420T083939Z
DESCRIPTION:
DTSTART:20260505T171500
DTEND:20260505T171500
SUMMARY:Kinder- und Jugendprobe
END:VEVENT
BEGIN:VEVENT
UID:36633637-6433-4162-b561-303838303533
DTSTAMP:20260420T083939Z
DESCRIPTION:
DTSTART:20260512T171500
DTEND:20260512T171500
SUMMARY:Kinder- und Jugendprobe
END:VEVENT
BEGIN:VEVENT
UID:64613939-3234-4132-b234-623038653039
DTSTAMP:20260420T083939Z
DESCRIPTION:
DTSTART:20260519T171500
DTEND:20260519T171500
SUMMARY:Kinder- und Jugendprobe
END:VEVENT
BEGIN:VEVENT
UID:30373064-3763-4266-b936-666164393630
DTSTAMP:20260420T083939Z
DESCRIPTION:
DTSTART:20260609T171500
DTEND:20260609T171500
SUMMARY:Kinder- und Jugendprobe
END:VEVENT
BEGIN:VEVENT
UID:37306563-6661-4463-b831-613863633763
DTSTAMP:20260420T083939Z
DESCRIPTION:
DTSTART:20260616T171500
DTEND:20260616T171500
SUMMARY:Kinder- und Jugendprobe
END:VEVENT
BEGIN:VEVENT
UID:36343636-3233-4265-a433-363538633935
DTSTAMP:20260420T083939Z
DESCRIPTION:
DTSTART:20260623T171500
DTEND:20260623T171500
SUMMARY:Kinder- und Jugendprobe
END:VEVENT
BEGIN:VEVENT
UID:35656135-3762-4966-b330-313531316638
DTSTAMP:20260420T083939Z
DESCRIPTION:
DTSTART;VALUE=DATE:20260703
DTEND;VALUE=DATE:20260706
SUMMARY:Jugendhüttenausflug
END:VEVENT
BEGIN:VEVENT
UID:32643931-3663-4336-b336-353130373764
DTSTAMP:20260420T083939Z
DESCRIPTION:
DTSTART:20260714T171500
DTEND:20260714T171500
SUMMARY:Kinder- und Jugendprobe
END:VEVENT
BEGIN:VEVENT
UID:62646463-6336-4434-a133-313333376332
DTSTAMP:20260420T083939Z
DESCRIPTION:
DTSTART:20260721T171500
DTEND:20260721T171500
SUMMARY:Kinder- und Jugendprobe
END:VEVENT
BEGIN:VEVENT
UID:30303132-6130-4264-b565-366533643730
DTSTAMP:20260420T083939Z
DESCRIPTION:
DTSTART:20260728T171500
DTEND:20260728T171500
SUMMARY:Kinder- und Jugendprobe
END:VEVENT
BEGIN:VEVENT
UID:33636262-3333-4163-b333-326665346263
DTSTAMP:20260420T083939Z
DESCRIPTION:
DTSTART:20260801T143000
DTEND:20260801T143000
SUMMARY:Grillfeier mit Familie bei Melanie
END:VEVENT
BEGIN:VEVENT
UID:65376631-3565-4666-b936-626463616430
DTSTAMP:20260420T083939Z
DESCRIPTION:
DTSTART:20260915T171500
DTEND:20260915T171500
SUMMARY:Kinder- und Jugendprobe
END:VEVENT
BEGIN:VEVENT
UID:64366638-3262-4739-b835-656366633461
DTSTAMP:20260420T083939Z
DESCRIPTION:
DTSTART:20260922T171500
DTEND:20260922T171500
SUMMARY:Kinder- und Jugendprobe
END:VEVENT
BEGIN:VEVENT
UID:30386334-6434-4834-a565-313632393239
DTSTAMP:20260420T083939Z
DESCRIPTION:
DTSTART:20260929T171500
DTEND:20260929T171500
SUMMARY:Kinder- und Jugendprobe
END:VEVENT
BEGIN:VEVENT
UID:34333161-6362-4034-a466-343733343736
DTSTAMP:20260420T083939Z
DESCRIPTION:
DTSTART:20261006T171500
DTEND:20261006T171500
SUMMARY:Kinder- und Jugendprobe
END:VEVENT
BEGIN:VEVENT
UID:64383163-3337-4738-b766-353535356538
DTSTAMP:20260420T083939Z
DESCRIPTION:
DTSTART:20261013T171500
DTEND:20261013T171500
SUMMARY:Kinder- und Jugendprobe
END:VEVENT
BEGIN:VEVENT
UID:38653533-3465-4134-b839-383366336563
DTSTAMP:20260420T083939Z
DESCRIPTION:
DTSTART:20261020T171500
DTEND:20261020T171500
SUMMARY:Kinder- und Jugendprobe
END:VEVENT
BEGIN:VEVENT
UID:65616432-3836-4762-b239-326165363862
DTSTAMP:20260420T083939Z
DESCRIPTION:
DTSTART:20261027T171500
DTEND:20261027T171500
SUMMARY:Kinder- und Jugendprobe
END:VEVENT
BEGIN:VEVENT
UID:39313564-3466-4338-a234-383230633735
DTSTAMP:20260420T083939Z
DESCRIPTION:
DTSTART:20261110T171500
DTEND:20261110T171500
SUMMARY:Kinder- und Jugendprobe
END:VEVENT
BEGIN:VEVENT
UID:32643537-6161-4130-b834-373331336363
DTSTAMP:20260420T083939Z
DESCRIPTION:
DTSTART:20261117T171500
DTEND:20261117T171500
SUMMARY:Kinder- und Jugendprobe
END:VEVENT
BEGIN:VEVENT
UID:30386461-3562-4631-a533-303537616666
DTSTAMP:20260420T083939Z
DESCRIPTION:
DTSTART:20261124T171500
DTEND:20261124T171500
SUMMARY:Kinder- und Jugendprobe
END:VEVENT
BEGIN:VEVENT
UID:31343139-6233-4362-a161-636435623938
DTSTAMP:20260420T083939Z
DESCRIPTION:
DTSTART:20261201T171500
DTEND:20261201T171500
SUMMARY:Kinder- und Jugendprobe
END:VEVENT
BEGIN:VEVENT
UID:32636430-3362-4334-a534-356439383536
DTSTAMP:20260420T083939Z
DESCRIPTION:
DTSTART:20261208T171500
DTEND:20261208T171500
SUMMARY:Kinder- und Jugendprobe
END:VEVENT
BEGIN:VEVENT
UID:61623737-3662-4462-a531-383830383235
DTSTAMP:20260420T083939Z
DESCRIPTION:
DTSTART:20261215T171500
DTEND:20261215T171500
SUMMARY:Kinder- und Jugendprobe
END:VEVENT
BEGIN:VEVENT
UID:30303666-3066-4533-a463-396630636330
DTSTAMP:20260420T083939Z
DESCRIPTION:
DTSTART:20261222T171500
DTEND:20261222T171500
SUMMARY:Kinder- und Jugendprobe
END:VEVENT
END:VCALENDAR
